BEGIN:VCALENDAR
VERSION:2.0
PRODID:-//wp-events-plugin.com//7.2.3.1//EN
BEGIN:VEVENT
UID:990@matagiri.org
DTSTART;TZID=America/New_York:20260425T193000
DTEND;TZID=America/New_York:20260425T210000
DTSTAMP:20260212T020523Z
URL:https://matagiri.org/events/timothy-hill-and-sasha-bogdanowitsch-are-l
 yraccord/
SUMMARY:EVENTNAME  - April 25\, 2026 - 7:30 pm - 9:00 pm - Matagiri Sri Aur
 obindo Center
DESCRIPTION:[et_pb_section fb_built="1" admin_label="section" _builder_vers
 ion="4.16" global_colors_info="{}"][et_pb_row admin_label="row" _builder_v
 ersion="4.16" background_size="initial" background_position="top_left" bac
 kground_repeat="repeat" global_colors_info="{}"][et_pb_column type="4_4" _
 builder_version="4.16" custom_padding="|||" global_colors_info="{}" custom
 _padding__hover="|||"][et_pb_text disabled_on="on|on|on" admin_label="Text
 " _builder_version="4.16" background_size="initial" background_position="t
 op_left" background_repeat="repeat" disabled="on" global_colors_info="{}"]
 \n     Singer/guitarist/composer Timothy Hill weaves a natural purity 
 of voice with threads of otherworldly abstract sound\, blending seamlessly
  into a style that transcends genre. Hill’s musical explorations span th
 e genres of folk\, jazz\, world music\, contemporary classical and improvi
 sation. He appears on numerous recordings with David Hykes and the Harmoni
 c Choir\, including the seminal Hearing Solar Winds. The New York Times ca
 lled Hill “A virtuoso of the Tibetan chanting technique.” He also appe
 ars on Baird Hersey and Prana’s recording Chiaroscuro with Nexus Percuss
 ion\, on Brooklyn Raga Massive’s performance of Terry Riley’s In C\, a
 nd on unique collaborations with composer-accordionist Pauline Oliveros\, 
 clarinetist-author David Rothenberg and singer-violinist Iva Bittová. Rec
 ent recordings include The Sa of Sa with bansuri flautists Steve Gorn and 
 Eric Fraser\, Inside Voice/Outside Voice with bassist Michael Bisio.\n\n 
     Sasha Bogdanowitsch is a composer\, vocalist\, multi-instrumentalist
  and educator\, whose work includes original songs\, music for theater\, d
 ance and film\, interdisciplinary performance\, concert music and sound ba
 ths often influenced by his studies of world\, folk and contemporary music
 s. He is a co-founder of World In One Pan Arts Collaborative (a non-profit
  arts organization whose purpose is to sponsor interdisciplinary collabora
 tions)\, Vital Vox Vocal Festival\, Loom Ensemble (interdisciplinary theat
 er ensemble) &amp\; LoomSong (vocal trio). Sasha has performed worldwide a
 nd throughout the New York area in venues such as: Carnegie Hall\, Whitney
  Museum\, Symphony Space\, BAM and Roulette and has worked with various ar
 tists\, including the composers Meredith Monk\, Lou Harrison and Ros Bandt
  . He currently performs solo as Timbre Tree and as a member of Lyraccord\
 , LoomSong\, Gamelan Kingston and the Hogfiddle Consort. ‘’…winning 
 authenticity.” New York Times\n[/et_pb_text][et_pb_code _builder_version
 ="4.27.5" _module_preset="default" global_colors_info="{}"] /* Adjust the 
 height settings below to your preference */ iframe { width: 100%\; height:
  1000px\; } @media (max-width: 599px) { iframe { width: 95%\; height: 2000
 px\; } }   [/et_pb_code][/et_pb_column][/et_pb_row][/et_pb_section]
ATTACH;FMTTYPE=image/jpeg:https://i0.wp.com/matagiri.org/wp-content/upload
 s/2026/01/Lyrachord-scaled-e1767567845834.jpg?fit=300%2C162&ssl=1
CATEGORIES:Special Events
LOCATION:Matagiri Sri Aurobindo Center\, 1218 Wittenberg Road\, Mt. Tremper
 \, United States
X-APPLE-STRUCTURED-LOCATION;VALUE=URI;X-ADDRESS=1218 Wittenberg Road\, Mt. 
 Tremper\, United States;X-APPLE-RADIUS=100;X-TITLE=Matagiri Sri Aurobindo 
 Center:geo:0,0
END:VEVENT
BEGIN:VTIMEZONE
TZID:America/New_York
X-LIC-LOCATION:America/New_York
BEGIN:DAYLIGHT
DTSTART:20260308T030000
TZOFFSETFROM:-0500
TZOFFSETTO:-0400
TZNAME:EDT
END:DAYLIGHT
END:VTIMEZONE
END:VCALENDAR