BEGIN:VCALENDAR
VERSION:2.0
PRODID:-//wp-events-plugin.com//7.2.3.1//EN
BEGIN:VEVENT
UID:999@matagiri.org
DTSTART;TZID=America/New_York:20260530T130000
DTEND;TZID=America/New_York:20260530T170000
DTSTAMP:20260424T124956Z
URL:https://matagiri.org/events/safe-conversations-workshop-with-julie-par
 isi-2/
SUMMARY:EVENTNAME  - May 30\, 2026 - 1:00 pm - 5:00 pm - MATAGIRI SRI AUROB
 INDO CENTER
DESCRIPTION:Ready to grow your relationships with research-based skills and
  processes that will change your every interaction? \nIt's time to connec
 t. \nAttend a Safe Conversations Workshop \n- Talk in a whole new way t
 hat leads to validation\, empathy and connection \n- Use a step-by-step d
 ialogue process that will allow you to calmly and safely discuss any topic
  (even if it's difficult) \n- Express Frustrations without triggering ano
 ther person \n- Train your brain to be curious\, and to respond rather th
 an react.\n- Change the way you show up in all your relationships\, for li
 fe\n- Develop the ability to be your true self in every relationship\, for
 estering greater authenticity and self-exprssion\n.For more info: Julie@li
 steningways.net\n
ATTACH;FMTTYPE=image/jpeg:https://i0.wp.com/matagiri.org/wp-content/upload
 s/2025/01/Julie-Parisi-SC.jpg?fit=533%2C314&ssl=1
CATEGORIES:Special Events
LOCATION:MATAGIRI SRI AUROBINDO CENTER\, 1218 Wittenberg Road\, Mount Tremp
 er\, NY\, 12457\, United States
GEO:42.028097;-74.25526500000001
X-APPLE-STRUCTURED-LOCATION;VALUE=URI;X-ADDRESS=1218 Wittenberg Road\, Moun
 t Tremper\, NY\, 12457\, United States;X-APPLE-RADIUS=100;X-TITLE=MATAGIRI
  SRI AUROBINDO CENTER:geo:42.028097,-74.25526500000001
END:VEVENT
BEGIN:VTIMEZONE
TZID:America/New_York
X-LIC-LOCATION:America/New_York
BEGIN:DAYLIGHT
DTSTART:20260308T030000
TZOFFSETFROM:-0500
TZOFFSETTO:-0400
TZNAME:EDT
END:DAYLIGHT
END:VTIMEZONE
END:VCALENDAR