BEGIN:VCALENDAR
VERSION:2.0
PRODID:-//wp-events-plugin.com//7.2.3.1//EN
BEGIN:VEVENT
UID:989@matagiri.org
DTSTART;TZID=America/New_York:20251227T193000
DTEND;TZID=America/New_York:20251227T210000
DTSTAMP:20251226T132134Z
URL:https://matagiri.org/events/marc-black-michael-esposito-in-concert/
SUMMARY:EVENTNAME  - December 27\, 2025 - 7:30 pm - 9:00 pm - MATAGIRI SRI 
 AUROBINDO CENTER
DESCRIPTION:\n\n&nbsp\;\n\n&nbsp\;\n\n&nbsp\;\n\n&nbsp\;\n\n&nbsp\;\nMarc a
 nd Mike\nAnother intimate evening with these Woodstock legends.\nOriginal 
 songs and covers. 7:30 pm Saturday December 27th    .\nPLEASE PURCHASE Y
 OUR TICKETS ONLINE OR PHONE IN YOUR RESERVATION:\n845-679-8322. LEAVE A ME
 SSAGE!
ATTACH;FMTTYPE=image/jpeg:https://i0.wp.com/matagiri.org/wp-content/upload
 s/2022/11/Marc-and-Mike-12.22.jpg?fit=854%2C578&ssl=1
CATEGORIES:Concerts,Special Events
LOCATION:MATAGIRI SRI AUROBINDO CENTER\, 1218 Wittenberg Road\, Mount Tremp
 er\, NY\, 12457\, United States
GEO:42.028097;-74.25526500000001
X-APPLE-STRUCTURED-LOCATION;VALUE=URI;X-ADDRESS=1218 Wittenberg Road\, Moun
 t Tremper\, NY\, 12457\, United States;X-APPLE-RADIUS=100;X-TITLE=MATAGIRI
  SRI AUROBINDO CENTER:geo:42.028097,-74.25526500000001
END:VEVENT
BEGIN:VTIMEZONE
TZID:America/New_York
X-LIC-LOCATION:America/New_York
BEGIN:STANDARD
DTSTART:20251102T010000
TZOFFSETFROM:-0400
TZOFFSETTO:-0500
TZNAME:EST
END:STANDARD
END:VTIMEZONE
END:VCALENDAR