BEGIN:VCALENDAR
VERSION:2.0
PRODID:-//wp-events-plugin.com//7.2.3.1//EN
BEGIN:VEVENT
UID:726@matagiri.org
DTSTART;TZID=America/New_York:20230512T200000
DTEND;TZID=America/New_York:20230512T212000
DTSTAMP:20230507T104239Z
URL:https://matagiri.org/events/hansa-veena-slide-guitar-concert-with-rama
 nan-venkatraman/
SUMMARY:EVENTNAME  - May 12\, 2023 - 8:00 pm - 9:20 pm - Matagiri
DESCRIPTION:Friday Evening May 12th at 8 pm\n\n\n\n&nbsp\;\n\n&nbsp\;\n\n&n
 bsp\;\n\n&nbsp\;\n\n&nbsp\;\n\nRamanan Venkatraman is a senior student of 
 our dear departed Barun Kumar Pal who played a number of concerts at Matag
 iri and taught at Sri Aurobindo Ashram Delhi Branch.\n\nHe will play a med
 itative series of unaccompanied ragas on the Hansa Veena\, the instrument 
 based on the slack key lap slide guitar. Ravi Shankar himself gave the nam
 e "Hansa (Swan) Veena".
ATTACH;FMTTYPE=image/jpeg:https://i0.wp.com/matagiri.org/wp-content/upload
 s/2023/04/Ramana-Venkatraman-e1680822111722.jpg?fit=200%2C134&ssl=1
LOCATION:Matagiri\, 1218 Wittenberg Rd\, Mount Tremper\, New York\, 12457\,
  Catkills\, United States
X-APPLE-STRUCTURED-LOCATION;VALUE=URI;X-ADDRESS=1218 Wittenberg Rd\, Mount 
 Tremper\, New York\, 12457\, Catkills\, United States;X-APPLE-RADIUS=100;X
 -TITLE=Matagiri:geo:0,0
END:VEVENT
BEGIN:VTIMEZONE
TZID:America/New_York
X-LIC-LOCATION:America/New_York
BEGIN:DAYLIGHT
DTSTART:20230312T030000
TZOFFSETFROM:-0500
TZOFFSETTO:-0400
TZNAME:EDT
END:DAYLIGHT
END:VTIMEZONE
END:VCALENDAR